BEGIN:VCALENDAR
VERSION:2.0
PRODID:-//North Coast Yard - ECPv6.10.2//NONSGML v1.0//EN
CALSCALE:GREGORIAN
METHOD:PUBLISH
X-WR-CALNAME:North Coast Yard
X-ORIGINAL-URL:https://northcoastyard.com
X-WR-CALDESC:Events for North Coast Yard
REFRESH-INTERVAL;VALUE=DURATION:PT1H
X-Robots-Tag:noindex
X-PUBLISHED-TTL:PT1H
BEGIN:VTIMEZONE
TZID:UTC
BEGIN:STANDARD
TZOFFSETFROM:+0000
TZOFFSETTO:+0000
TZNAME:UTC
DTSTART:20250101T000000
END:STANDARD
END:VTIMEZONE
BEGIN:VEVENT
DTSTART;VALUE=DATE:20250614
DTEND;VALUE=DATE:20250615
DTSTAMP:20260422T144655
CREATED:20250514T013033Z
LAST-MODIFIED:20250815T181127Z
UID:10001078-1749859200-1749945599@northcoastyard.com
SUMMARY:Restaurant and Bar Saturday Hours
DESCRIPTION:Saturday: Food Truck: 11am – 9pm\, Bar Hours are 3pm – 9pm \nEvery Saturday and Sunday we’ll roll out an interactive kit of games\, wheels\, and creative activities (thanks to Recess) to invite kids of all ages to play by the lake. Saturday and Sunday at the Yard are open for recreation and no registration is required. Free and open to all. \n*Our Second Saturday Community Events are scheduled from 4pm – 8pm on June 14th\, July 12th\, and August 9th.
URL:https://northcoastyard.com/event/saturdays-at-the-yard-restaurant-and-bar-hours/2025-06-14/
LOCATION:North Coast Yard\, 515 Erieside Avenue\, Cleveland\, Ohio\, 44114\, United States
END:VEVENT
BEGIN:VEVENT
DTSTART;TZID=UTC:20250613T170000
DTEND;TZID=UTC:20250613T210000
DTSTAMP:20260422T144655
CREATED:20250528T151152Z
LAST-MODIFIED:20250827T174152Z
UID:10001347-1749834000-1749848400@northcoastyard.com
SUMMARY:Restaurant and Bar Friday Hours
DESCRIPTION:Friday from 5pm – 9pm the on-site food trucks and bar will be open. \nFriday park hours are from dawn to dusk. \n 
URL:https://northcoastyard.com/event/restaurant-and-bar-friday-hours/2025-06-13/
LOCATION:North Coast Yard\, 515 Erieside Avenue\, Cleveland\, Ohio\, 44114\, United States
END:VEVENT
BEGIN:VEVENT
DTSTART;TZID=UTC:20250613T170000
DTEND;TZID=UTC:20250613T210000
DTSTAMP:20260422T144655
CREATED:20250307T015414Z
LAST-MODIFIED:20250827T174915Z
UID:10000487-1749834000-1749848400@northcoastyard.com
SUMMARY:Weekly Rollin’ at the Yard Roller Skating
DESCRIPTION:This recurring weekly evening event presented by Rollin’ Buckeyez will bring Cleveland roller skating culture to the waterfront with a DJ-every Friday starting Friday\, June 13th from 5pm – 9pm.
URL:https://northcoastyard.com/event/weekly-rollin-at-the-yard-roller-skating/2025-06-13/
LOCATION:North Coast Yard\, 515 Erieside Avenue\, Cleveland\, Ohio\, 44114\, United States
END:VEVENT
BEGIN:VEVENT
DTSTART;VALUE=DATE:20250613
DTEND;VALUE=DATE:20250616
DTSTAMP:20260422T144655
CREATED:20250307T015232Z
LAST-MODIFIED:20250528T161448Z
UID:10000002-1749772800-1750031999@northcoastyard.com
SUMMARY:KICKOFF WEEKEND!
DESCRIPTION:North Coast Yard Kickoff Weekend: Rollin’ Into Summer (June 13-15) \n\nBuild The Yard– Multiple opportunities to volunteer\, sign up here.\nFriday\, June 13: Rollin’ at the Yard — Pop-up roller skating rink with free skate rentals\, food trucks\, and lakefront bar (5–9pm)\nSaturday\, June 14: 2nd Saturday – Rollin’ into the Summer — Volunteer opportunities to finish final touches by day\, then celebrate what we’ve built on our first Second Saturday with steamroller flag printing\, live music\, food trucks\, and interactive activities for all ages. (4–8pm) Register here.\nSunday\, June 15: Open Rec & Easy Hangs — Culminating volunteer opportunities. Casual lakefront vibes with open blacktop. Bring your own balls\, rackets\, wheels\, and nets! Enjoy food trucks operated by Zanzibar from 11am – 9pm.
URL:https://northcoastyard.com/event/grand-opening-weekend/
LOCATION:Ohio
END:VEVENT
BEGIN:VEVENT
DTSTART;VALUE=DATE:20250606
DTEND;VALUE=DATE:20250613
DTSTAMP:20260422T144655
CREATED:20250307T015130Z
LAST-MODIFIED:20250528T161145Z
UID:10000001-1749168000-1749772799@northcoastyard.com
SUMMARY:Help Build The Yard Volunteer Opportunities
DESCRIPTION:BE PART OF THE BUILD! Please register here for multiple dates/times.\nFrom painting shipping containers to building site elements\, there are multiple ways to leave your mark. By participating\, you’re not just volunteering—you’re helping shape a public space from the ground up. \nNo specific experience required. Ages 13+. Corporate volunteer opportunities and service hours documentation available upon request.
URL:https://northcoastyard.com/event/community-build-days-may/
LOCATION:North Coast Yard\, 515 Erieside Avenue\, Cleveland\, Ohio\, 44114\, United States
END:VEVENT
END:VCALENDAR